BEGIN:VCALENDAR
VERSION:2.0
PRODID:-//Pint O&#039; Comics - ECPv6.15.20//NONSGML v1.0//EN
CALSCALE:GREGORIAN
METHOD:PUBLISH
X-WR-CALNAME:Pint O&#039; Comics
X-ORIGINAL-URL:https://pintocomics.com
X-WR-CALDESC:Events for Pint O&#039; Comics
REFRESH-INTERVAL;VALUE=DURATION:PT1H
X-Robots-Tag:noindex
X-PUBLISHED-TTL:PT1H
BEGIN:VTIMEZONE
TZID:America/New_York
BEGIN:DAYLIGHT
TZOFFSETFROM:-0500
TZOFFSETTO:-0400
TZNAME:EDT
DTSTART:20160313T070000
END:DAYLIGHT
BEGIN:STANDARD
TZOFFSETFROM:-0400
TZOFFSETTO:-0500
TZNAME:EST
DTSTART:20161106T060000
END:STANDARD
BEGIN:DAYLIGHT
TZOFFSETFROM:-0500
TZOFFSETTO:-0400
TZNAME:EDT
DTSTART:20170312T070000
END:DAYLIGHT
BEGIN:STANDARD
TZOFFSETFROM:-0400
TZOFFSETTO:-0500
TZNAME:EST
DTSTART:20171105T060000
END:STANDARD
BEGIN:DAYLIGHT
TZOFFSETFROM:-0500
TZOFFSETTO:-0400
TZNAME:EDT
DTSTART:20180311T070000
END:DAYLIGHT
BEGIN:STANDARD
TZOFFSETFROM:-0400
TZOFFSETTO:-0500
TZNAME:EST
DTSTART:20181104T060000
END:STANDARD
END:VTIMEZONE
BEGIN:VEVENT
DTSTART;TZID=America/New_York:20171119T183000
DTEND;TZID=America/New_York:20171119T193000
DTSTAMP:20260420T160429
CREATED:20171108T022744Z
LAST-MODIFIED:20171108T022744Z
UID:2608-1511116200-1511119800@pintocomics.com
SUMMARY:Pint O' Comics Radio Show
DESCRIPTION:Our very special guest for this evening is Cullen Murphy\, writer of the upcoming retrospective and memoir\, CARTOON COUNTY: My Father and his Friends in the Golden Age of Make-Believe. It’s a full-range discussion of newspaper comic strips\, rememberances\, artistry and camraderie.
URL:https://pintocomics.com/calendar-events/pint-o-comics-radio-show-20/
CATEGORIES:Radio Show
END:VEVENT
BEGIN:VEVENT
DTSTART;TZID=America/New_York:20171112T183000
DTEND;TZID=America/New_York:20171112T193000
DTSTAMP:20260420T160429
CREATED:20171108T015725Z
LAST-MODIFIED:20171108T021526Z
UID:2606-1510511400-1510515000@pintocomics.com
SUMMARY:Pint O' Comics Radio Show
DESCRIPTION:Sir Jon goes solo (excepting a special guest co-host) with comic book artist\, author and movie-phile Steve Bissette
URL:https://pintocomics.com/calendar-events/pint-o-comics-radio-show-19/
CATEGORIES:Radio Show
END:VEVENT
BEGIN:VEVENT
DTSTART;TZID=America/New_York:20171105T183000
DTEND;TZID=America/New_York:20171105T193000
DTSTAMP:20260420T160429
CREATED:20171103T131244Z
LAST-MODIFIED:20171103T131244Z
UID:2592-1509906600-1509910200@pintocomics.com
SUMMARY:Radio Show With Special Guests Pass The Effin Popcorn
DESCRIPTION:Chad and Liz\, co hosts of the movie centric podcast Pass The Effin Popcorn will be in studio with the boys to discuss their show\, movies and much more. Listen In!
URL:https://pintocomics.com/calendar-events/radio-show-with-special-guests-pass-the-effin-popcorn/
LOCATION:WESU FM\, 45 Broad St\, Middletown\, CT\, 06457\, United States
CATEGORIES:Radio Show
END:VEVENT
BEGIN:VEVENT
DTSTART;TZID=America/New_York:20171029T183000
DTEND;TZID=America/New_York:20171029T193000
DTSTAMP:20260420T160429
CREATED:20170920T215800Z
LAST-MODIFIED:20170920T215800Z
UID:2403-1509301800-1509305400@pintocomics.com
SUMMARY:Pint O' Comics Radio Show
DESCRIPTION:Guest TBA
URL:https://pintocomics.com/calendar-events/pint-o-comics-radio-show-18/
CATEGORIES:Radio Show
END:VEVENT
BEGIN:VEVENT
DTSTART;TZID=America/New_York:20171022T183000
DTEND;TZID=America/New_York:20171022T193000
DTSTAMP:20260420T160429
CREATED:20170920T215619Z
LAST-MODIFIED:20170920T215619Z
UID:2401-1508697000-1508700600@pintocomics.com
SUMMARY:Pint O' Comics Radio Show
DESCRIPTION:Guest TBA
URL:https://pintocomics.com/calendar-events/pint-o-comics-radio-show-17/
CATEGORIES:Radio Show
END:VEVENT
BEGIN:VEVENT
DTSTART;TZID=America/New_York:20171015T183000
DTEND;TZID=America/New_York:20171015T193000
DTSTAMP:20260420T160429
CREATED:20170920T215136Z
LAST-MODIFIED:20170920T215136Z
UID:2399-1508092200-1508095800@pintocomics.com
SUMMARY:Pint O' Comics Radio Show
DESCRIPTION:Guest TBA
URL:https://pintocomics.com/calendar-events/pint-o-comics-radio-show-16/
CATEGORIES:Radio Show
END:VEVENT
BEGIN:VEVENT
DTSTART;TZID=America/New_York:20171001T183000
DTEND;TZID=America/New_York:20171001T193000
DTSTAMP:20260420T160429
CREATED:20170908T132230Z
LAST-MODIFIED:20170908T132230Z
UID:2334-1506882600-1506886200@pintocomics.com
SUMMARY:Pint Radio Show
DESCRIPTION:“Scary” Larry Dwyer returns for his third go around of talking horror\, laughs and telling us about his upcoming October 21st edition of Connecticut Cult Classics. Listen In!
URL:https://pintocomics.com/calendar-events/pint-radio-show/
CATEGORIES:Radio Show
END:VEVENT
BEGIN:VEVENT
DTSTART;TZID=America/New_York:20170924T183000
DTEND;TZID=America/New_York:20170924T193000
DTSTAMP:20260420T160429
CREATED:20170920T211850Z
LAST-MODIFIED:20170920T211922Z
UID:2391-1506277800-1506281400@pintocomics.com
SUMMARY:Pint O' Comics Radio Show
DESCRIPTION:Tonight the Pint is joined by the creators of the Charlton Movie project\, Jackie Zbuska and Keith Larsen! It’s an hour of Charlton Comics\, Connecticut and comic book history\, and a little Mafioso thrown in for good measure. Visit them at www.charltonmovie.com for more information.
URL:https://pintocomics.com/calendar-events/pint-o-comics-radio-show-13/
CATEGORIES:Radio Show
END:VEVENT
BEGIN:VEVENT
DTSTART;TZID=America/New_York:20170917T183000
DTEND;TZID=America/New_York:20170917T193000
DTSTAMP:20260420T160429
CREATED:20170823T193434Z
LAST-MODIFIED:20170823T193434Z
UID:2197-1505673000-1505676600@pintocomics.com
SUMMARY:Pint O' Comics Radio Show
DESCRIPTION:Join “the Pint” as we welcome Geek Anthropologist Nick Mizer for an hour of intense scrutiny of Sir Jon’s life!
URL:https://pintocomics.com/calendar-events/pint-o-comics-radio-show-12/
CATEGORIES:Radio Show
END:VEVENT
BEGIN:VEVENT
DTSTART;TZID=America/New_York:20170910T183000
DTEND;TZID=America/New_York:20170910T193000
DTSTAMP:20260420T160429
CREATED:20170823T192135Z
LAST-MODIFIED:20170823T192135Z
UID:2195-1505068200-1505071800@pintocomics.com
SUMMARY:Pint O' Comics Radio Show
DESCRIPTION:Join Pint O’ Comics as we welcome Special Guest Flint Dille\, writer of everything 80’s animation – Transformers\, G.I. Joe\, and much\, much more. This guy has a list of credits so long it would eat up bandwidth to list them. Retro-throwback episode!
URL:https://pintocomics.com/calendar-events/pint-o-comics-radio-show-11/
CATEGORIES:Radio Show
END:VEVENT
BEGIN:VEVENT
DTSTART;TZID=America/New_York:20170903T183000
DTEND;TZID=America/New_York:20170903T193000
DTSTAMP:20260420T160429
CREATED:20170823T191105Z
LAST-MODIFIED:20170823T191105Z
UID:2193-1504463400-1504467000@pintocomics.com
SUMMARY:Pint O' Comics Radio Show
DESCRIPTION:Join the Jo(h)ns as they bring in the Horror News Network as their Special Guests! It’ll be an evening of blood\, guts and screams as we talk everything dark and atmospheric (but not I SPIT ON YOUR GRAVE). Detailed information of the Connecticut HorrorFest.
URL:https://pintocomics.com/calendar-events/pint-o-comics-radio-show-10/
CATEGORIES:Radio Show
END:VEVENT
BEGIN:VEVENT
DTSTART;TZID=America/New_York:20170827T183000
DTEND;TZID=America/New_York:20170827T193000
DTSTAMP:20260420T160429
CREATED:20170808T203148Z
LAST-MODIFIED:20170823T185145Z
UID:2110-1503858600-1503862200@pintocomics.com
SUMMARY:Pint O' Comics Radio Show
DESCRIPTION:Pint O’ Comics welcomes Special Guest Keith R. A. DeCandido\, writer of a massive amount of television/movie tie-in fiction\, Spider-Man\, fantasy novels and much\, much more!
URL:https://pintocomics.com/calendar-events/pint-o-comics-radio-show-9/
CATEGORIES:Radio Show
END:VEVENT
BEGIN:VEVENT
DTSTART;TZID=America/New_York:20170820T183000
DTEND;TZID=America/New_York:20170820T193000
DTSTAMP:20260420T160429
CREATED:20170808T202908Z
LAST-MODIFIED:20170808T202908Z
UID:2108-1503253800-1503257400@pintocomics.com
SUMMARY:Pint O' Comics Radio Show
DESCRIPTION:Pint O’ Comics welcomes Special Guest Marty Langford\, writer and director of the movie DOOMED: Untold Story of Roger Corman’s “The Fantastic Four”!
URL:https://pintocomics.com/calendar-events/pint-o-comics-radio-show-8/
CATEGORIES:Radio Show
END:VEVENT
BEGIN:VEVENT
DTSTART;TZID=America/New_York:20170813T183000
DTEND;TZID=America/New_York:20170813T193000
DTSTAMP:20260420T160429
CREATED:20170804T184237Z
LAST-MODIFIED:20170807T163114Z
UID:2054-1502649000-1502652600@pintocomics.com
SUMMARY:Pint O' Comics Radio Show
DESCRIPTION:Pint O’ Comics is joined by Connecticut Cult Classics organizer Larry Dwyer!
URL:https://pintocomics.com/calendar-events/pint-o-comics-radio-show-7/
CATEGORIES:Radio Show
END:VEVENT
BEGIN:VEVENT
DTSTART;TZID=America/New_York:20170804T183000
DTEND;TZID=America/New_York:20170804T193000
DTSTAMP:20260420T160429
CREATED:20170806T181509Z
LAST-MODIFIED:20170804T182159Z
UID:2052-1501871400-1501875000@pintocomics.com
SUMMARY:Pint O' Comics Radio Show
DESCRIPTION:Pint O’ Comics is joined by Special Guest Larry Dwyer of Connecticut Cult Classics – the first guest on his second appearance! \nWESU 88.1 Middletown\, Connecticut.
URL:https://pintocomics.com/calendar-events/pint-o-comics-radio-show-6/
CATEGORIES:Radio Show
END:VEVENT
BEGIN:VEVENT
DTSTART;TZID=America/New_York:20170730T183000
DTEND;TZID=America/New_York:20170730T193000
DTSTAMP:20260420T160429
CREATED:20170630T030040Z
LAST-MODIFIED:20170630T030040Z
UID:1794-1501439400-1501443000@pintocomics.com
SUMMARY:Pint O' Comics Radio Show
DESCRIPTION:Sundays from 6:30-7:30pm. Live on 88.1 WESU – Middletown\, CT or stream at wesufm.org/
URL:https://pintocomics.com/calendar-events/pint-o-comics-radio-show-5/
CATEGORIES:Radio Show
ATTACH;FMTTYPE=image/jpeg:https://pintocomics.com/wp-content/uploads/2017/06/Radio-ad-600x600.jpg
END:VEVENT
BEGIN:VEVENT
DTSTART;TZID=America/New_York:20170723T183000
DTEND;TZID=America/New_York:20170723T193000
DTSTAMP:20260420T160429
CREATED:20170630T025930Z
LAST-MODIFIED:20170630T030139Z
UID:1791-1500834600-1500838200@pintocomics.com
SUMMARY:Pint O' Comics Radio Show
DESCRIPTION:Sundays from 6:30-7:30pm. Live on 88.1 WESU – Middletown\, CT or stream at wesufm.org/
URL:https://pintocomics.com/calendar-events/pint-o-comics-radio-show-4/
CATEGORIES:Radio Show
ATTACH;FMTTYPE=image/jpeg:https://pintocomics.com/wp-content/uploads/2017/06/Radio-ad-600x600.jpg
END:VEVENT
BEGIN:VEVENT
DTSTART;TZID=America/New_York:20170716T183000
DTEND;TZID=America/New_York:20170716T193000
DTSTAMP:20260420T160429
CREATED:20170630T025825Z
LAST-MODIFIED:20170708T144311Z
UID:1789-1500229800-1500233400@pintocomics.com
SUMMARY:Pint O' Comics Radio Show With Special Guest Ron Garney
DESCRIPTION:Sundays from 6:30-7:30pm. Live on 88.1 WESU – Middletown\, CT or stream at wesufm.org/
URL:https://pintocomics.com/calendar-events/pint-o-comics-radio-show-3/
CATEGORIES:Radio Show
ATTACH;FMTTYPE=image/jpeg:https://pintocomics.com/wp-content/uploads/2017/06/Radio-ad-600x600.jpg
END:VEVENT
BEGIN:VEVENT
DTSTART;TZID=America/New_York:20170709T183000
DTEND;TZID=America/New_York:20170709T193000
DTSTAMP:20260420T160429
CREATED:20170630T025637Z
LAST-MODIFIED:20170708T144154Z
UID:1785-1499625000-1499628600@pintocomics.com
SUMMARY:Pint O' Comics Radio Show With Special Guest Derek "Geekpreacher" White
DESCRIPTION:Sundays from 6:30-7:30pm. Live on 88.1 WESU – Middletown\, CT or stream at wesufm.org/
URL:https://pintocomics.com/calendar-events/pint-o-comics-radio-show-2/
CATEGORIES:Radio Show
ATTACH;FMTTYPE=image/jpeg:https://pintocomics.com/wp-content/uploads/2017/06/Radio-ad-300x300-2.jpg
END:VEVENT
BEGIN:VEVENT
DTSTART;TZID=America/New_York:20170702T183000
DTEND;TZID=America/New_York:20170702T193000
DTSTAMP:20260420T160429
CREATED:20170630T025201Z
LAST-MODIFIED:20170630T025201Z
UID:1783-1499020200-1499023800@pintocomics.com
SUMMARY:Pint O' Comics Radio Show
DESCRIPTION:Sundays from 6:30-7:30pm. Live on 88.1 WESU – Middletown\, CT or stream at wesufm.org/
URL:https://pintocomics.com/calendar-events/pint-o-comics-radio-show/
CATEGORIES:Radio Show
END:VEVENT
END:VCALENDAR