BEGIN:VCALENDAR
VERSION:2.0
PRODID:-//Pint O&#039; Comics - ECPv6.15.20//NONSGML v1.0//EN
CALSCALE:GREGORIAN
METHOD:PUBLISH
X-ORIGINAL-URL:https://pintocomics.com
X-WR-CALDESC:Events for Pint O&#039; Comics
REFRESH-INTERVAL;VALUE=DURATION:PT1H
X-Robots-Tag:noindex
X-PUBLISHED-TTL:PT1H
BEGIN:VTIMEZONE
TZID:America/New_York
BEGIN:DAYLIGHT
TZOFFSETFROM:-0500
TZOFFSETTO:-0400
TZNAME:EDT
DTSTART:20160313T070000
END:DAYLIGHT
BEGIN:STANDARD
TZOFFSETFROM:-0400
TZOFFSETTO:-0500
TZNAME:EST
DTSTART:20161106T060000
END:STANDARD
BEGIN:DAYLIGHT
TZOFFSETFROM:-0500
TZOFFSETTO:-0400
TZNAME:EDT
DTSTART:20170312T070000
END:DAYLIGHT
BEGIN:STANDARD
TZOFFSETFROM:-0400
TZOFFSETTO:-0500
TZNAME:EST
DTSTART:20171105T060000
END:STANDARD
BEGIN:DAYLIGHT
TZOFFSETFROM:-0500
TZOFFSETTO:-0400
TZNAME:EDT
DTSTART:20180311T070000
END:DAYLIGHT
BEGIN:STANDARD
TZOFFSETFROM:-0400
TZOFFSETTO:-0500
TZNAME:EST
DTSTART:20181104T060000
END:STANDARD
END:VTIMEZONE
BEGIN:VEVENT
DTSTART;TZID=America/New_York:20171103T183000
DTEND;TZID=America/New_York:20171103T210000
DTSTAMP:20260420T173010
CREATED:20171103T130440Z
LAST-MODIFIED:20171103T130440Z
UID:2587-1509733800-1509742800@pintocomics.com
SUMMARY:Tonight! Thor Ragnarok
DESCRIPTION:Going to check out the third film in Marvel’s Thor series\, hoping it is the first I will enjoy. The original looked great but fell short and the sequel was just not good. This one looks like a comic come to life and as it seems to be based heavily on Planet Hulk\, a favorite story arc of mine\, I have high hopes. Stay tuned here for a review in the next few days\, and don’t forget to stay through the credits if you go see this!
URL:https://pintocomics.com/calendar-events/tonight-thor-ragnarok/
CATEGORIES:Movie Debut
ATTACH;FMTTYPE=image/jpeg:https://pintocomics.com/wp-content/uploads/2017/11/Thor-Ragnarok.jpg
END:VEVENT
END:VCALENDAR