BEGIN:VCALENDAR
VERSION:2.0
PRODID:-//Pint O&#039; Comics - ECPv6.15.20//NONSGML v1.0//EN
CALSCALE:GREGORIAN
METHOD:PUBLISH
X-ORIGINAL-URL:https://pintocomics.com
X-WR-CALDESC:Events for Pint O&#039; Comics
REFRESH-INTERVAL;VALUE=DURATION:PT1H
X-Robots-Tag:noindex
X-PUBLISHED-TTL:PT1H
BEGIN:VTIMEZONE
TZID:America/New_York
BEGIN:DAYLIGHT
TZOFFSETFROM:-0500
TZOFFSETTO:-0400
TZNAME:EDT
DTSTART:20150308T070000
END:DAYLIGHT
BEGIN:STANDARD
TZOFFSETFROM:-0400
TZOFFSETTO:-0500
TZNAME:EST
DTSTART:20151101T060000
END:STANDARD
BEGIN:DAYLIGHT
TZOFFSETFROM:-0500
TZOFFSETTO:-0400
TZNAME:EDT
DTSTART:20160313T070000
END:DAYLIGHT
BEGIN:STANDARD
TZOFFSETFROM:-0400
TZOFFSETTO:-0500
TZNAME:EST
DTSTART:20161106T060000
END:STANDARD
BEGIN:DAYLIGHT
TZOFFSETFROM:-0500
TZOFFSETTO:-0400
TZNAME:EDT
DTSTART:20170312T070000
END:DAYLIGHT
BEGIN:STANDARD
TZOFFSETFROM:-0400
TZOFFSETTO:-0500
TZNAME:EST
DTSTART:20171105T060000
END:STANDARD
BEGIN:DAYLIGHT
TZOFFSETFROM:-0500
TZOFFSETTO:-0400
TZNAME:EDT
DTSTART:20180311T070000
END:DAYLIGHT
BEGIN:STANDARD
TZOFFSETFROM:-0400
TZOFFSETTO:-0500
TZNAME:EST
DTSTART:20181104T060000
END:STANDARD
BEGIN:DAYLIGHT
TZOFFSETFROM:-0500
TZOFFSETTO:-0400
TZNAME:EDT
DTSTART:20190310T070000
END:DAYLIGHT
BEGIN:STANDARD
TZOFFSETFROM:-0400
TZOFFSETTO:-0500
TZNAME:EST
DTSTART:20191103T060000
END:STANDARD
END:VTIMEZONE
BEGIN:VEVENT
DTSTART;VALUE=DATE:20180308
DTEND;VALUE=DATE:20180312
DTSTAMP:20260420T114308
CREATED:20170615T005710Z
LAST-MODIFIED:20170615T005710Z
UID:1761-1520467200-1520812799@pintocomics.com
SUMMARY:GaryCon X
DESCRIPTION:
URL:https://pintocomics.com/calendar-events/garycon-x/
LOCATION:MA
CATEGORIES:Con
END:VEVENT
BEGIN:VEVENT
DTSTART;VALUE=DATE:20180224
DTEND;VALUE=DATE:20180225
DTSTAMP:20260420T114308
CREATED:20180202T134157Z
LAST-MODIFIED:20180202T134157Z
UID:2791-1519430400-1519516799@pintocomics.com
SUMMARY:Total Con!
DESCRIPTION:The Pint heads to Mass to take in the gaming extravaganza known as…Total Confusion!
URL:https://pintocomics.com/calendar-events/total-con/
LOCATION:Best Western Royal Plaza Hotel\, Marlborough\, MA\, United States
CATEGORIES:Con
END:VEVENT
BEGIN:VEVENT
DTSTART;TZID=America/New_York:20171028T110000
DTEND;TZID=America/New_York:20171028T170000
DTSTAMP:20260420T114308
CREATED:20170808T204609Z
LAST-MODIFIED:20170808T204609Z
UID:2112-1509188400-1509210000@pintocomics.com
SUMMARY:Bing Con 2017
DESCRIPTION:Bing Comic-Con\, Springfield\, Massachusetts best one-day event. Pint O’ Comics will be there. Will you?
URL:https://pintocomics.com/calendar-events/bing-con-2017/
LOCATION:Trinity United Methodist Church\, 361 Sumner Ave\, Springfield\, MA\, United States
CATEGORIES:Con
END:VEVENT
BEGIN:VEVENT
DTSTART;TZID=America/New_York:20170820T100000
DTEND;TZID=America/New_York:20170820T170000
DTSTAMP:20260420T114308
CREATED:20170708T144057Z
LAST-MODIFIED:20170708T144057Z
UID:1832-1503223200-1503248400@pintocomics.com
SUMMARY:Terrificon at Mohegan Sun\, Uncasville\, CT
DESCRIPTION:Terrificon\, Connecticut’s coolest mid-size comic book centric convention\, returns again to the Mohegan Sun Casino in Uncasville\, Connecticut. Hundreds of comic book guests will be there to celebrate the life of Adam West\, who sadly passed on before his scheduled appearance there. Join the Pint O’ Comics crew as they peruse the aisles and gather more fodder for the podcast and radio show!
URL:https://pintocomics.com/calendar-events/terrificon-at-mohegan-sun-uncasville-ct-3/
LOCATION:Mohegan Sun\, Uncasville\, CT\, United States
CATEGORIES:Con
END:VEVENT
BEGIN:VEVENT
DTSTART;TZID=America/New_York:20170819T100000
DTEND;TZID=America/New_York:20170819T190000
DTSTAMP:20260420T114309
CREATED:20170708T143901Z
LAST-MODIFIED:20170708T143901Z
UID:1830-1503136800-1503169200@pintocomics.com
SUMMARY:Terrificon at Mohegan Sun\, Uncasville\, CT
DESCRIPTION:Terrificon\, Connecticut’s coolest mid-size comic book centric convention\, returns again to the Mohegan Sun Casino in Uncasville\, Connecticut. Hundreds of comic book guests will be there to celebrate the life of Adam West\, who sadly passed on before his scheduled appearance there. Join the Pint O’ Comics crew as they peruse the aisles and gather more fodder for the podcast and radio show!
URL:https://pintocomics.com/calendar-events/terrificon-at-mohegan-sun-uncasville-ct-2/
LOCATION:Mohegan Sun\, Uncasville\, CT\, United States
CATEGORIES:Con
END:VEVENT
BEGIN:VEVENT
DTSTART;TZID=America/New_York:20170818T130000
DTEND;TZID=America/New_York:20170818T200000
DTSTAMP:20260420T114309
CREATED:20170708T143451Z
LAST-MODIFIED:20170708T143451Z
UID:1827-1503061200-1503086400@pintocomics.com
SUMMARY:Terrificon at Mohegan Sun\, Uncasville\, CT
DESCRIPTION:Terrificon\, Connecticut’s coolest mid-size comic book centric convention\, returns again to the Mohegan Sun Casino in Uncasville\, Connecticut. Hundreds of comic book guests will be there to celebrate the life of Adam West\, who sadly passed on before his scheduled appearance there. Join the Pint O’ Comics crew as they peruse the aisles and gather more fodder for the podcast and radio show!
URL:https://pintocomics.com/calendar-events/terrificon-at-mohegan-sun-uncasville-ct/
LOCATION:Mohegan Sun\, Uncasville\, CT\, United States
CATEGORIES:Con
END:VEVENT
BEGIN:VEVENT
DTSTART;TZID=America/New_York:20160430T100000
DTEND;TZID=America/New_York:20160430T160000
DTSTAMP:20260420T114309
CREATED:20160419T015210Z
LAST-MODIFIED:20160419T015347Z
UID:64-1462010400-1462032000@pintocomics.com
SUMMARY:CT Festival of Indie Games
DESCRIPTION:Celebrate International Tabletop Game Day
URL:https://pintocomics.com/calendar-events/ct-festival-of-indie-games/
LOCATION:Elm City Games/ The Grove\, 756-760 Chapel St\, New Haven\, CT\, United States
CATEGORIES:Con
END:VEVENT
END:VCALENDAR